BEGIN:VCALENDAR
VERSION:2.0
PRODID:-//eventon.com NONSGML v1.0//EN
BEGIN:VEVENT
UID:69eba46009dbd
DTSTAMP:20260424T131200
DTSTART:20200929T103000Z
DTEND:20200929T120000Z
TZID:UTC
LOCATION:
SUMMARY:加拿大遺囑的基本知識
DESCRIPTION: 遺囑是保護和分配資產的藍圖。 它闡明了誰將照顧您的未成年子女，誰將繼承您的財產，以及繼承您的財產必須滿足的條件等。請來加入！讓我們進一步了解加拿大遺囑的基本知識。 內容：1.什麼是遺囑2.立遺囑3.繼承方法4.腸道死亡的問題5.問題與答案 演講者：TCCSA 安居工作者日期：星期二 9月29日2020年時間：上午10:30至中午12點聯接：通過 Zoom註冊：bsun@tccsa.org 或 416-502-9500語言：國語/普通話 人數空間有限。請準備好您的永久居民卡。\nhttps://projectprotech.ca/events/basic-knowledge-of-canadian-wills/
URL:https://projectprotech.ca/events/basic-knowledge-of-canadian-wills/
END:VEVENT
END:VCALENDAR