BEGIN:VCALENDAR
VERSION:2.0
PRODID:-//eventon.com NONSGML v1.0//EN
BEGIN:VEVENT
UID:69eba3af086f3
DTSTAMP:20260424T130903
DTSTART:20200929T103000Z
DTEND:20200929T120000Z
TZID:UTC
LOCATION:
SUMMARY:加拿大遗嘱的基本知识
DESCRIPTION: 遗嘱是保护和分配资产的蓝图。 它阐明了谁将照顾您的未成年子女，谁将继承您的财产，以及继承您的财产必须满足的条件等。请来加入！让我们进一步了解加拿大遗嘱的基本知识。 内容： 1.什么是遗嘱2.立遗嘱3.继承方法4.肠道死亡的问题5.问题与答案 演讲者：TCCSA 安居工作者日期：星期二 9月29日2020年时间：上午10:30至中午12点联接：通过 Zoom注册：bsun@tccsa.org 或 416-502-9500语言：国语/普通话人数空间有限。请准备好您的永久居民卡。\nhttps://projectprotech.ca/events/basic-knowledge-of-canadian-wills/
URL:https://projectprotech.ca/events/basic-knowledge-of-canadian-wills/
END:VEVENT
END:VCALENDAR