BEGIN:VCALENDAR
VERSION:2.0
PRODID:-//eventon.com NONSGML v1.0//EN
BEGIN:VEVENT
UID:69eb8eced54ea
DTSTAMP:20260424T113958
DTSTART:20200929T103000Z
DTEND:20200929T120000Z
TZID:UTC
LOCATION:
SUMMARY:Basic Knowledge of Canadian Wills
DESCRIPTION: A will is a blue-print to protect and allocate your assets. It spells out who will take care of your minor children\,  who will inherit your property\,  and what are the conditions that must be met in order to inherit your property\,  etc. Please come and join us to learn[..]\nhttps://projectprotech.ca/events/basic-knowledge-of-canadian-wills/
URL:https://projectprotech.ca/events/basic-knowledge-of-canadian-wills/
END:VEVENT
END:VCALENDAR